
BEGIN:VCALENDAR
VERSION:2.0
PRODID:-//Royal Poker Tour//RPT Championship III//RPT LAST CHANCE HIGH ROLLER//EN
BEGIN:VEVENT
UID:01000000-4909-3915-702d-08de9ed76a40
DTSTAMP;TZID=Asia/Hanoi:20260616T130000
DTSTART;TZID=Asia/Hanoi:20260616T130000
DTEND;TZID=Asia/Hanoi:20260616T235959
SUMMARY:RPT LAST CHANCE HIGH ROLLER
DESCRIPTION:Game: Texas Hold'em (NL)\nBuy-In: 40,000,000 + 4,000,000 VND\nGTD: 1,200,000,000 VND\nStack: 200,000\nLevels: 35 min\nLate Reg: 12 lvl @ 20:00
LOCATION:Royal Poker Club, Hanoi, Viet Nam
END:VEVENT
END:VCALENDAR
