
BEGIN:VCALENDAR
VERSION:2.0
PRODID:-//Asia Pacific Poker Tour//APPT Championship 2026//PLO Knockout [₱5K Bounty] - Turbo//EN
BEGIN:VEVENT
UID:01000000-3971-2ef2-4ad7-08de90b46df1
DTSTAMP;TZID=Asia/Manila:20261016T210000
DTSTART;TZID=Asia/Manila:20261016T210000
DTEND;TZID=Asia/Manila:20261016T235959
SUMMARY:PLO Knockout [₱5K Bounty] - Turbo
DESCRIPTION:Game: Omaha (PL)\nBuy-In: 12,872 + 2,128 PHP\nStack: 25,000\nLevels: 15 min\nLate Reg: @ 23:10
LOCATION:Okada Manila, Manila, Philippines
END:VEVENT
END:VCALENDAR
