
BEGIN:VCALENDAR
VERSION:2.0
PRODID:-//Asia Pacific Poker Tour//APPT Championship 2026//APPT CHAMPIONSHIP Qualifier - WYS@100K//EN
BEGIN:VEVENT
UID:01000000-3971-2ef2-490b-08de90b46dda
DTSTAMP;TZID=Asia/Manila:20261016T200000
DTSTART;TZID=Asia/Manila:20261016T200000
DTEND;TZID=Asia/Manila:20261016T235959
SUMMARY:APPT CHAMPIONSHIP Qualifier - WYS@100K
DESCRIPTION:Game: Texas Hold'em (NL)\nBuy-In: 16,416 + 2,584 PHP\nStack: 10,000\nLevels: 20 min\nLate Reg: @ 22:50
LOCATION:Okada Manila, Manila, Philippines
END:VEVENT
END:VCALENDAR
