
BEGIN:VCALENDAR
VERSION:2.0
PRODID:-//Asia Pacific Poker Tour//APPT Championship 2026//High Roller Knockout [₱50K Bounty]//EN
BEGIN:VEVENT
UID:01000000-3971-2ef2-ff52-08de90b46de5
DTSTAMP;TZID=Asia/Manila:20261016T200000
DTSTART;TZID=Asia/Manila:20261016T200000
DTEND;TZID=Asia/Manila:20261016T235959
SUMMARY:High Roller Knockout [₱50K Bounty]
DESCRIPTION:Game: Texas Hold'em (NL)\nBuy-In: 135,360 + 14,640 PHP\nStack: 100,000\nLevels: 15 min\nLate Reg: @ 22:40
LOCATION:Okada Manila, Manila, Philippines
END:VEVENT
END:VCALENDAR
