
BEGIN:VCALENDAR
VERSION:2.0
PRODID:-//Asia Pacific Poker Tour//APPT Manila 2025//Ladies Event//EN
BEGIN:VEVENT
UID:01000000-a9fe-0a58-25d7-08dda2a21084
DTSTAMP;TZID=Asia/Manila:20250801T140000
DTSTART;TZID=Asia/Manila:20250801T140000
DTEND;TZID=Asia/Manila:20250801T235959
SUMMARY:Ladies Event
DESCRIPTION:Game: Texas Hold'em (NL)\nBuy-In: 15,000 +  PHP\nStack: 30,000\nLevels: 20 min\nLate Reg: 6 lvl @ 16:10
LOCATION:Okada Manila, Manila, Philippines
END:VEVENT
END:VCALENDAR
