
BEGIN:VCALENDAR
VERSION:2.0
PRODID:-//Asia Pacific Poker Tour//APPT Championship 2026//PLO Bomb Pot (Double Board)//EN
BEGIN:VEVENT
UID:01000000-3971-2ef2-607a-08de90b46da1
DTSTAMP;TZID=Asia/Manila:20261016T123000
DTSTART;TZID=Asia/Manila:20261016T123000
DTEND;TZID=Asia/Manila:20261016T235959
SUMMARY:PLO Bomb Pot (Double Board)
DESCRIPTION:Game: Omaha (PL)\nBuy-In: 21,120 + 3,880 PHP\nStack: 20,000\nLevels: 30 min\nLate Reg: @ 16:40
LOCATION:Okada Manila, Manila, Philippines
END:VEVENT
END:VCALENDAR
