
BEGIN:VCALENDAR
VERSION:2.0
PRODID:-//World Poker Games//WPG Taiwan 2026//Sunday High Roller - Single Day//EN
BEGIN:VEVENT
UID:01000000-4909-3915-9653-08de9c6bd053
DTSTAMP;TZID=Asia/Taipei:20260524T110000
DTSTART;TZID=Asia/Taipei:20260524T110000
DTEND;TZID=Asia/Taipei:20260524T235959
SUMMARY:Sunday High Roller - Single Day
DESCRIPTION:Game: Texas Hold'em (NL)\nBuy-In: 31,500 + 3,500 TWD\nGTD: 500,000 TWD\nStack: 100,000\nLevels: 30 min\nLate Reg: 11 lvl @  16:30
LOCATION:CTP Asia Poker Arena, Taipei City, Taiwan
END:VEVENT
END:VCALENDAR
