
BEGIN:VCALENDAR
VERSION:2.0
PRODID:-//Royal Poker Tour//RPT Championship III//RPT MEGASTACK HIGH ROLLER - LIVE//EN
BEGIN:VEVENT
UID:01000000-4909-3915-844b-08de9ed441a0
DTSTAMP;TZID=Asia/Hanoi:20260604T120000
DTSTART;TZID=Asia/Hanoi:20260604T120000
DTEND;TZID=Asia/Hanoi:20260604T235959
SUMMARY:RPT MEGASTACK HIGH ROLLER - LIVE
DESCRIPTION:Game: Texas Hold'em (NL)\nBuy-In: 40,000,000 + 4,000,000 VND\nGTD: 2,000,000,000 VND\nStack: 200,000\nLevels: 35 min\nLate Reg: 12 lvl @ 19:00
LOCATION:Royal Poker Club, Hanoi, Viet Nam
END:VEVENT
END:VCALENDAR
