
BEGIN:VCALENDAR
VERSION:2.0
PRODID:-//Asian Poker Tour//APT Jeju South Korea 2025//Hyper Turbo//EN
BEGIN:VEVENT
UID:01000000-a9fe-0a58-6481-08ddb488ea69
DTSTAMP;TZID=Asia/Seoul:20250926T213000
DTSTART;TZID=Asia/Seoul:20250926T213000
DTEND;TZID=Asia/Seoul:20250926T235959
SUMMARY:Hyper Turbo
DESCRIPTION:Game: Texas Hold'em (NL)\nBuy-In: 500,000 +  KRW\nLate Reg: @ 22:55
LOCATION:LES A Casino, Jeju, South Korea
END:VEVENT
END:VCALENDAR
