
BEGIN:VCALENDAR
VERSION:2.0
PRODID:-//PokerStars Live//Manila Megastack 23//Deepstack Freezeout//EN
BEGIN:VEVENT
UID:01000000-a9fe-0a58-ceb4-08de14aa3472
DTSTAMP;TZID=Asia/Manila:20251128T160000
DTSTART;TZID=Asia/Manila:20251128T160000
DTEND;TZID=Asia/Manila:20251128T235959
SUMMARY:Deepstack Freezeout
DESCRIPTION:Game: Texas Hold'em (NL)\nBuy-In: 7,040 + 960 PHP\nStack: 30,000\nLevels: 20 min\nLate Reg: 6 lvl @ 18:10
LOCATION:Okada Manila, Manila, Philippines
END:VEVENT
END:VCALENDAR
