
BEGIN:VCALENDAR
VERSION:2.0
PRODID:-//Poker Dream//Poker Dream 22 Jeju//Atomic Pineapple - Hyper Turbo//EN
BEGIN:VEVENT
UID:01000000-3971-2ef2-41b1-08de9a1d13fc
DTSTAMP;TZID=Asia/Seoul:20260501T235900
DTSTART;TZID=Asia/Seoul:20260501T235900
DTEND;TZID=Asia/Seoul:20260501T235959
SUMMARY:Atomic Pineapple - Hyper Turbo
DESCRIPTION:Game: Texas Hold'em (NL)\nBuy-In: 356,000 + 44,000 KRW\nStack: 15,000\nLevels: 10 min\nLate Reg: 7 lvl @ 01:19
LOCATION:LES A Casino, Jeju, South Korea
END:VEVENT
END:VCALENDAR
