
BEGIN:VCALENDAR
VERSION:2.0
PRODID:-//U Series Championship//U Series Champ. Osaka Q2 2026//Last Challenge//EN
BEGIN:VEVENT
UID:01000000-3971-2ef2-90da-08de91633bf5
DTSTAMP;TZID=Asia/Tokyo:20260506T160000
DTSTART;TZID=Asia/Tokyo:20260506T160000
DTEND;TZID=Asia/Tokyo:20260506T235959
SUMMARY:Last Challenge
DESCRIPTION:Game: Texas Hold'em (NL)\nBuy-In: 20,000 +  JPY\nStack: 30,000\nLevels: 20 min\nLate Reg: @ 18:30
LOCATION:Dojima River Forum, Osaka, Japan
END:VEVENT
END:VCALENDAR
