
BEGIN:VCALENDAR
VERSION:2.0
PRODID:-//Asia Pacific Poker Tour//APPT Championship 2026//Double Stack//EN
BEGIN:VEVENT
UID:01000000-3971-2ef2-745f-08de90b46d84
DTSTAMP;TZID=Asia/Manila:20261016T110000
DTSTART;TZID=Asia/Manila:20261016T110000
DTEND;TZID=Asia/Manila:20261016T235959
SUMMARY:Double Stack
DESCRIPTION:Game: Texas Hold'em (NL)\nBuy-In: 12,672 + 2,328 PHP\nGTD: 1,000,000 PHP\nStack: 30,000\nLevels: 20 min\nLate Reg: @ 14:00
LOCATION:Okada Manila, Manila, Philippines
END:VEVENT
END:VCALENDAR
