
BEGIN:VCALENDAR
VERSION:2.0
PRODID:-//Asia Pacific Poker Tour//APPT Championship 2026//Win The Button - Hyper Turbo//EN
BEGIN:VEVENT
UID:01000000-3971-2ef2-fe1b-08de90b46d6c
DTSTAMP;TZID=Asia/Manila:20261015T210000
DTSTART;TZID=Asia/Manila:20261015T210000
DTEND;TZID=Asia/Manila:20261015T235959
SUMMARY:Win The Button - Hyper Turbo
DESCRIPTION:Game: Texas Hold'em (NL)\nBuy-In: 12,672 + 2,328 PHP\nStack: 20,000\nLevels: 10 min\nLate Reg: @ 22:20
LOCATION:Okada Manila, Manila, Philippines
END:VEVENT
END:VCALENDAR
