
BEGIN:VCALENDAR
VERSION:2.0
PRODID:-//U Series Championship//U Series Champ. Osaka Q2 2026//PLO Mega//EN
BEGIN:VEVENT
UID:01000000-3971-2ef2-475c-08de91633be0
DTSTAMP;TZID=Asia/Tokyo:20260506T130000
DTSTART;TZID=Asia/Tokyo:20260506T130000
DTEND;TZID=Asia/Tokyo:20260506T235959
SUMMARY:PLO Mega
DESCRIPTION:Game: Omaha (PL)\nBuy-In: 25,000 +  JPY\nStack: 60,000\nLevels: 30 min\nLate Reg: @ 16:20
LOCATION:Dojima River Forum, Osaka, Japan
END:VEVENT
END:VCALENDAR
