
BEGIN:VCALENDAR
VERSION:2.0
PRODID:-//Poker Dream//Poker Dream 22 Jeju//ALL-IN or FOLD//EN
BEGIN:VEVENT
UID:01000000-3971-2ef2-3332-08de9a1d193d
DTSTAMP;TZID=Asia/Seoul:20260510T220000
DTSTART;TZID=Asia/Seoul:20260510T220000
DTEND;TZID=Asia/Seoul:20260510T235959
SUMMARY:ALL-IN or FOLD
DESCRIPTION:Game: Texas Hold'em (NL)\nBuy-In: 356,000 + 44,000 KRW\nStack: 50,000\nLevels: 10 min\nLate Reg: 7 lvl @ 23:20
LOCATION:LES A Casino, Jeju, South Korea
END:VEVENT
END:VCALENDAR
