
BEGIN:VCALENDAR
VERSION:2.0
PRODID:-//Players Series//PS Championship III Taipei 2026//Women's Championship//EN
BEGIN:VEVENT
UID:01000000-a9fe-0a58-1793-08de420ad9fa
DTSTAMP;TZID=Asia/Taipei:20260306T110000
DTSTART;TZID=Asia/Taipei:20260306T110000
DTEND;TZID=Asia/Taipei:20260307T235959
SUMMARY:Women's Championship
DESCRIPTION:Featured\nGame: Texas Hold'em (NL)\nBuy-In: 7,200 + 800 TWD\nStack: 30,000
LOCATION:CTP Asia Poker Arena, Taipei City, Taiwan
END:VEVENT
END:VCALENDAR
