
BEGIN:VCALENDAR
VERSION:2.0
PRODID:-//Asia Pacific Poker Tour//APPT Championship 2026//Limit Hold'em Turbo//EN
BEGIN:VEVENT
UID:01000000-3971-2ef2-d0f5-08de90b46d4a
DTSTAMP;TZID=Asia/Manila:20261015T190000
DTSTART;TZID=Asia/Manila:20261015T190000
DTEND;TZID=Asia/Manila:20261015T235959
SUMMARY:Limit Hold'em Turbo
DESCRIPTION:Game: Texas Hold'em (NL)\nBuy-In: 12,672 + 2,328 PHP\nStack: 20,000\nLevels: 15 min\nLate Reg: @ 20:55
LOCATION:Okada Manila, Manila, Philippines
END:VEVENT
END:VCALENDAR
