
BEGIN:VCALENDAR
VERSION:2.0
PRODID:-//U Series Championship//U Series Champ. Osaka Q2 2026//Morning Challenge//EN
BEGIN:VEVENT
UID:01000000-3971-2ef2-9331-08de91633bc2
DTSTAMP;TZID=Asia/Tokyo:20260506T110000
DTSTART;TZID=Asia/Tokyo:20260506T110000
DTEND;TZID=Asia/Tokyo:20260506T235959
SUMMARY:Morning Challenge
DESCRIPTION:Game: Texas Hold'em (NL)\nBuy-In: 10,000 +  JPY\nStack: 20,000\nLevels: 20 min\nLate Reg: @ 13:10
LOCATION:Dojima River Forum, Osaka, Japan
END:VEVENT
END:VCALENDAR
