
BEGIN:VCALENDAR
VERSION:2.0
PRODID:-//Asia Pacific Poker Tour//APPT Championship 2026//Survivor Knockout [₱50K Bounty]//EN
BEGIN:VEVENT
UID:01000000-3971-2ef2-12a7-08de90b46d3f
DTSTAMP;TZID=Asia/Manila:20261015T150000
DTSTART;TZID=Asia/Manila:20261015T150000
DTEND;TZID=Asia/Manila:20261015T235959
SUMMARY:Survivor Knockout [₱50K Bounty]
DESCRIPTION:Game: Texas Hold'em (NL)\nBuy-In: 16,896 + 3,104 PHP\nStack: 30,000\nLevels: 20 min\nLate Reg: @ 18:00
LOCATION:Okada Manila, Manila, Philippines
END:VEVENT
END:VCALENDAR
