
BEGIN:VCALENDAR
VERSION:2.0
PRODID:-//Poker Dream//Poker Dream 22 Jeju//The Closer//EN
BEGIN:VEVENT
UID:01000000-3971-2ef2-bc35-08de9a1d1931
DTSTAMP;TZID=Asia/Seoul:20260510T130000
DTSTART;TZID=Asia/Seoul:20260510T130000
DTEND;TZID=Asia/Seoul:20260510T235959
SUMMARY:The Closer
DESCRIPTION:Featured\nGame: Texas Hold'em (NL)\nBuy-In: 819,000 + 81,000 KRW\nGTD: 70,000,000 KRW\nStack: 30,000
LOCATION:LES A Casino, Jeju, South Korea
END:VEVENT
END:VCALENDAR
