
BEGIN:VCALENDAR
VERSION:2.0
PRODID:-//Royal Poker Tour//RPT Championship III//RPT CHAMPIONSHIP//EN
BEGIN:VEVENT
UID:01000000-4909-3915-9649-08de9ed76a35
DTSTAMP;TZID=Asia/Hanoi:20260613T130000
DTSTART;TZID=Asia/Hanoi:20260613T130000
DTEND;TZID=Asia/Hanoi:20260616T235959
SUMMARY:RPT CHAMPIONSHIP
DESCRIPTION:Featured\nGame: Texas Hold'em (NL)\nBuy-In: 35,000,000 + 3,500,000 VND\nGTD: 15,000,000,000 VND\nStack: 50,000
LOCATION:Royal Poker Club, Hanoi, Viet Nam
END:VEVENT
END:VCALENDAR
