
BEGIN:VCALENDAR
VERSION:2.0
PRODID:-//Asia Pacific Poker Tour//APPT Championship 2026//Pot Limit Omaha//EN
BEGIN:VEVENT
UID:01000000-3971-2ef2-fa94-08de90b46d1c
DTSTAMP;TZID=Asia/Manila:20261015T130000
DTSTART;TZID=Asia/Manila:20261015T130000
DTEND;TZID=Asia/Manila:20261015T235959
SUMMARY:Pot Limit Omaha
DESCRIPTION:Game: Omaha (PL)\nBuy-In: 86,400 + 13,600 PHP\nStack: 25,000\nLevels: 30 min\nLate Reg: @ 17:30
LOCATION:Okada Manila, Manila, Philippines
END:VEVENT
END:VCALENDAR
