
BEGIN:VCALENDAR
VERSION:2.0
PRODID:-//Royal Poker Tour//RPT Championship III//RPT DOUBLE STACK//EN
BEGIN:VEVENT
UID:01000000-4909-3915-b684-08de9ed74643
DTSTAMP;TZID=Asia/Hanoi:20260613T113000
DTSTART;TZID=Asia/Hanoi:20260613T113000
DTEND;TZID=Asia/Hanoi:20260613T235959
SUMMARY:RPT DOUBLE STACK
DESCRIPTION:Game: Texas Hold'em (NL)\nBuy-In: 10,000,000 + 1,000,000 VND\nGTD: 1,000,000,000 VND\nStack: 60,000\nLevels: 35 min\nLate Reg: 12 lvl @ 18:30
LOCATION:Royal Poker Club, Hanoi, Viet Nam
END:VEVENT
END:VCALENDAR
