
BEGIN:VCALENDAR
VERSION:2.0
PRODID:-//Asia Pacific Poker Tour//APPT Championship 2026//PLO - (4,5,6 CARD)//EN
BEGIN:VEVENT
UID:01000000-3971-2ef2-7087-08de90b46d11
DTSTAMP;TZID=Asia/Manila:20261015T123000
DTSTART;TZID=Asia/Manila:20261015T123000
DTEND;TZID=Asia/Manila:20261015T235959
SUMMARY:PLO - (4,5,6 CARD)
DESCRIPTION:Game: Omaha (PL)\nBuy-In: 21,120 + 3,880 PHP\nStack: 25,000\nLevels: 25 min\nLate Reg: @ 16:00
LOCATION:Okada Manila, Manila, Philippines
END:VEVENT
END:VCALENDAR
