
BEGIN:VCALENDAR
VERSION:2.0
PRODID:-//Royal Poker Tour//RPT Championship II//RPT LAST CHANCE HIGH ROLLER//EN
BEGIN:VEVENT
UID:01000000-3fa8-b42d-0d13-08de6e39fadf
DTSTAMP;TZID=Asia/Hanoi:20260330T140000
DTSTART;TZID=Asia/Hanoi:20260330T140000
DTEND;TZID=Asia/Hanoi:20260330T235959
SUMMARY:RPT LAST CHANCE HIGH ROLLER
DESCRIPTION:Featured\nGame: Texas Hold'em (NL)\nBuy-In: 30,000,000 + 3,000,000 VND\nGTD: 1,000,000,000 VND\nStack: 100,000\nLevels: 30 min\nLate Reg: 12 lvl @ 20:05
LOCATION:Royal Poker Club, Hanoi, Viet Nam
END:VEVENT
END:VCALENDAR
