
BEGIN:VCALENDAR
VERSION:2.0
PRODID:-//U Series Championship//U Series Champ. Osaka Q2 2026//CRAZY KO//EN
BEGIN:VEVENT
UID:01000000-3971-2ef2-a3ef-08de91633b8a
DTSTAMP;TZID=Asia/Tokyo:20260505T190000
DTSTART;TZID=Asia/Tokyo:20260505T190000
DTEND;TZID=Asia/Tokyo:20260505T235959
SUMMARY:CRAZY KO
DESCRIPTION:Game: Texas Hold'em (NL)\nBuy-In: 30,000 +  JPY\nStack: 30,000\nLevels: 25 min\nLate Reg: @ 22:40
LOCATION:Dojima River Forum, Osaka, Japan
END:VEVENT
END:VCALENDAR
