
BEGIN:VCALENDAR
VERSION:2.0
PRODID:-//Asia Pacific Poker Tour//APPT Championship 2026//APPT Championship//EN
BEGIN:VEVENT
UID:01000000-3971-2ef2-bd85-08de90b46f33
DTSTAMP;TZID=Asia/Manila:20261015T130000
DTSTART;TZID=Asia/Manila:20261015T130000
DTEND;TZID=Asia/Manila:20261019T235959
SUMMARY:APPT Championship
DESCRIPTION:Main Event\nFeatured\nGame: Texas Hold'em (NL)\nBuy-In: 142,560 + 23,440 PHP\nGTD: 60,000,000 PHP\nStack: 50,000
LOCATION:Okada Manila, Manila, Philippines
END:VEVENT
END:VCALENDAR
