
BEGIN:VCALENDAR
VERSION:2.0
PRODID:-//PokerStars Live//Manila Megastack 23//SuperStack//EN
BEGIN:VEVENT
UID:01000000-a9fe-0a58-c497-08de14aa343d
DTSTAMP;TZID=Asia/Manila:20251128T120000
DTSTART;TZID=Asia/Manila:20251128T120000
DTEND;TZID=Asia/Manila:20251128T235959
SUMMARY:SuperStack
DESCRIPTION:Game: Texas Hold'em (NL)\nBuy-In: 8,800 + 1,200 PHP\nGTD: 800,000 PHP\nStack: 40,000\nLevels: 25 min\nLate Reg: 10 lvl @ 16:30
LOCATION:Okada Manila, Manila, Philippines
END:VEVENT
END:VCALENDAR
