
BEGIN:VCALENDAR
VERSION:2.0
PRODID:-//Vietnam Poker Tour//VPT Championship II 2025//SINGLE DAY HIGH ROLLER//EN
BEGIN:VEVENT
UID:01000000-a9fe-0a58-8056-08dde64d979c
DTSTAMP;TZID=Asia/Hanoi:20251101T113000
DTSTART;TZID=Asia/Hanoi:20251101T113000
DTEND;TZID=Asia/Hanoi:20251101T235959
SUMMARY:SINGLE DAY HIGH ROLLER
DESCRIPTION:Game: null (null)\nBuy-In: 30,000,000 + 3,000,000 VND\nGTD: 1,000,000,000 VND\nStack: 200,000\nLate Reg: 12 lvl @ 17:45
LOCATION:Corona Casino and Resort, Phú Quốc, Viet Nam
END:VEVENT
END:VCALENDAR
