
BEGIN:VCALENDAR
VERSION:2.0
PRODID:-//Asia Pacific Poker Tour//APPT Championship 2026//Ladies - Turbo//EN
BEGIN:VEVENT
UID:01000000-3971-2ef2-2702-08de90b469ad
DTSTAMP;TZID=Asia/Manila:20261008T180000
DTSTART;TZID=Asia/Manila:20261008T180000
DTEND;TZID=Asia/Manila:20261008T235959
SUMMARY:Ladies - Turbo
DESCRIPTION:Game: Texas Hold'em (NL)\nBuy-In: 2,112 + 388 PHP\nStack: 20,000\nLevels: 15 min\nLate Reg: @ 19:55
LOCATION:Okada Manila, Manila, Philippines
END:VEVENT
END:VCALENDAR
