
BEGIN:VCALENDAR
VERSION:2.0
PRODID:-//U Series Of Poker//Grand Loyal Poker Championship - Hanoi 2025//HIGHROLLER CHAMPIONSHIP//EN
BEGIN:VEVENT
UID:01000000-a9fe-0a58-a848-08ddef65bc2a
DTSTAMP;TZID=Asia/Hanoi:20251020T130000
DTSTART;TZID=Asia/Hanoi:20251020T130000
DTEND;TZID=Asia/Hanoi:20251021T235959
SUMMARY:HIGHROLLER CHAMPIONSHIP
DESCRIPTION:Featured\nGame: Texas Hold'em (NL)\nBuy-In: 54,000,000 + 6,000,000 VND\nGTD: 2,000,000,000 VND\nStack: 250,000
LOCATION:Grand Loyal Poker Club, Hanoi, Viet Nam
END:VEVENT
END:VCALENDAR
