
BEGIN:VCALENDAR
VERSION:2.0
PRODID:-//Asia Pacific Poker Tour//APPT Championship 2026//Super Stack//EN
BEGIN:VEVENT
UID:01000000-3971-2ef2-b103-08de90b46ce2
DTSTAMP;TZID=Asia/Manila:20261015T110000
DTSTART;TZID=Asia/Manila:20261015T110000
DTEND;TZID=Asia/Manila:20261015T235959
SUMMARY:Super Stack
DESCRIPTION:Game: Texas Hold'em (NL)\nBuy-In: 12,672 + 2,328 PHP\nGTD: 1,000,000 PHP\nStack: 40,000\nLevels: 20 min\nLate Reg: @ 14:00
LOCATION:Okada Manila, Manila, Philippines
END:VEVENT
END:VCALENDAR
