
BEGIN:VCALENDAR
VERSION:2.0
PRODID:-//World Poker Games//World Poker Games Taiwan 2026//Night Rush PLO//EN
BEGIN:VEVENT
UID:01000000-4909-3915-6828-08de9c6bd3fc
DTSTAMP;TZID=Asia/Taipei:20260531T200000
DTSTART;TZID=Asia/Taipei:20260531T200000
DTEND;TZID=Asia/Taipei:20260531T235959
SUMMARY:Night Rush PLO
DESCRIPTION:Game: Omaha (PL)\nBuy-In: 2,550 + 450 TWD\nStack: 18,000\nLevels: 10 min\nLate Reg: 9 lvl @  21:30
LOCATION:CTP Asia Poker Arena, Taipei City, Taiwan
END:VEVENT
END:VCALENDAR
