
BEGIN:VCALENDAR
VERSION:2.0
PRODID:-//U Series Of Poker//Grand Loyal Poker Championship - Hanoi 2025//CHAMPIONSHIP//EN
BEGIN:VEVENT
UID:01000000-a9fe-0a58-7d47-08ddef65be08
DTSTAMP;TZID=Asia/Hanoi:20251020T130000
DTSTART;TZID=Asia/Hanoi:20251020T130000
DTEND;TZID=Asia/Hanoi:20251022T235959
SUMMARY:CHAMPIONSHIP
DESCRIPTION:Featured\nGame: Texas Hold'em (NL)\nBuy-In: 12,400,000 + 1,600,000 VND\nGTD: 10,000,000,000 VND\nStack: 40,000
LOCATION:Grand Loyal Poker Club, Hanoi, Viet Nam
END:VEVENT
END:VCALENDAR
