
BEGIN:VCALENDAR
VERSION:2.0
PRODID:-//World Poker Games//World Poker Games Taiwan 2026//2010.10.10//EN
BEGIN:VEVENT
UID:01000000-4909-3915-e258-08de9c6bd3f0
DTSTAMP;TZID=Asia/Taipei:20260531T183000
DTSTART;TZID=Asia/Taipei:20260531T183000
DTEND;TZID=Asia/Taipei:20260531T235959
SUMMARY:2010.10.10
DESCRIPTION:Game: Texas Hold'em (NL)\nBuy-In: 5,100 + 900 TWD\nStack: 10,000\nLevels: 10 min\nLate Reg: 7 lvl @  19:40
LOCATION:CTP Asia Poker Arena, Taipei City, Taiwan
END:VEVENT
END:VCALENDAR
