
BEGIN:VCALENDAR
VERSION:2.0
PRODID:-//Poker Dream//Poker Dream 22 Jeju//Mini Main Event//EN
BEGIN:VEVENT
UID:01000000-3971-2ef2-008d-08de9a1d18e2
DTSTAMP;TZID=Asia/Seoul:20260509T130000
DTSTART;TZID=Asia/Seoul:20260509T130000
DTEND;TZID=Asia/Seoul:20260510T235959
SUMMARY:Mini Main Event
DESCRIPTION:Featured\nGame: Texas Hold'em (NL)\nBuy-In: 1,092,000 + 108,000 KRW\nGTD: 150,000,000 KRW\nStack: 30,000
LOCATION:LES A Casino, Jeju, South Korea
END:VEVENT
END:VCALENDAR
