
BEGIN:VCALENDAR
VERSION:2.0
PRODID:-//Asia Pacific Poker Tour//APPT Championship 2026//Knockout [₱5K Bounty] - Turbo//EN
BEGIN:VEVENT
UID:01000000-3971-2ef2-de96-08de90b46cb4
DTSTAMP;TZID=Asia/Manila:20261014T190000
DTSTART;TZID=Asia/Manila:20261014T190000
DTEND;TZID=Asia/Manila:20261014T235959
SUMMARY:Knockout [₱5K Bounty] - Turbo
DESCRIPTION:Game: Texas Hold'em (NL)\nBuy-In: 8,648 + 1,352 PHP\nStack: 20,000\nLevels: 15 min\nLate Reg: @ 20:55
LOCATION:Okada Manila, Manila, Philippines
END:VEVENT
END:VCALENDAR
