
BEGIN:VCALENDAR
VERSION:2.0
PRODID:-//World Poker Games//World Poker Games Taiwan 2026//HR Last Chance//EN
BEGIN:VEVENT
UID:01000000-4909-3915-e126-08de9c6bd3d9
DTSTAMP;TZID=Asia/Taipei:20260531T153000
DTSTART;TZID=Asia/Taipei:20260531T153000
DTEND;TZID=Asia/Taipei:20260531T235959
SUMMARY:HR Last Chance
DESCRIPTION:Game: Texas Hold'em (NL)\nBuy-In: 27,000 + 3,000 TWD\nStack: 100,000\nLevels: 20 min\nLate Reg: 13 lvl @  20:00
LOCATION:CTP Asia Poker Arena, Taipei City, Taiwan
END:VEVENT
END:VCALENDAR
