
BEGIN:VCALENDAR
VERSION:2.0
PRODID:-//Royal Poker Tour//RPT Championship II//RPT SUPER HIGH ROLLER//EN
BEGIN:VEVENT
UID:01000000-3fa8-b42d-5355-08de6e39fad4
DTSTAMP;TZID=Asia/Hanoi:20260329T130000
DTSTART;TZID=Asia/Hanoi:20260329T130000
DTEND;TZID=Asia/Hanoi:20260330T235959
SUMMARY:RPT SUPER HIGH ROLLER
DESCRIPTION:Featured\nGame: Texas Hold'em (NL)\nBuy-In: 50,000,000 + 5,000,000 VND\nGTD: 3,000,000,000 VND\nStack: 200,000\nLevels: 40 min\nLate Reg: 15 lvl @ 13:35
LOCATION:Royal Poker Club, Hanoi, Viet Nam
END:VEVENT
END:VCALENDAR
