
BEGIN:VCALENDAR
VERSION:2.0
PRODID:-//World Poker Games//World Poker Games Taiwan 2026//NL Hold'em//EN
BEGIN:VEVENT
UID:01000000-4909-3915-6c33-08de9c6bd3ce
DTSTAMP;TZID=Asia/Taipei:20260531T143000
DTSTART;TZID=Asia/Taipei:20260531T143000
DTEND;TZID=Asia/Taipei:20260531T235959
SUMMARY:NL Hold'em
DESCRIPTION:Game: Texas Hold'em (NL)\nBuy-In: 5,100 + 900 TWD\nStack: 20,000\nLevels: 20 min\nLate Reg: 9 lvl @  18:20
LOCATION:CTP Asia Poker Arena, Taipei City, Taiwan
END:VEVENT
END:VCALENDAR
