
BEGIN:VCALENDAR
VERSION:2.0
PRODID:-//Poker Dream//Poker Dream Malaysia 15//Mini Main Event - Final//EN
BEGIN:VEVENT
UID:01000000-a9fe-0a58-fb32-08dd2ffbe1fb
DTSTAMP;TZID=Asia/Kuala_Lumpur:20250126T200000
DTSTART;TZID=Asia/Kuala_Lumpur:20250126T200000
DTEND;TZID=Asia/Kuala_Lumpur:20250126T235959
SUMMARY:Mini Main Event - Final
DESCRIPTION:Main Event\nGame: Texas Hold'em (NL)\nBuy-In:  +  MYR\nGTD: 100,000 MYR
LOCATION:Resorts World Genting, Malaysia, Pahang, Malaysia
END:VEVENT
END:VCALENDAR
