
BEGIN:VCALENDAR
VERSION:2.0
PRODID:-//U Series Championship//U Series Champ. Osaka Q2 2026//Midnight Turbo//EN
BEGIN:VEVENT
UID:01000000-3971-2ef2-e50a-08de91633b35
DTSTAMP;TZID=Asia/Tokyo:20260504T230000
DTSTART;TZID=Asia/Tokyo:20260504T230000
DTEND;TZID=Asia/Tokyo:20260504T235959
SUMMARY:Midnight Turbo
DESCRIPTION:Game: Texas Hold'em (NL)\nBuy-In: 15,000 +  JPY\nStack: 20,000\nLevels: 15 min\nLate Reg: @ 24:25:00
LOCATION:Dojima River Forum, Osaka, Japan
END:VEVENT
END:VCALENDAR
