
BEGIN:VCALENDAR
VERSION:2.0
PRODID:-//Asia Pacific Poker Tour//APPT Championship 2026//APPT CHAMPIONSHIP MEGA Qualifier - WYS@100K//EN
BEGIN:VEVENT
UID:01000000-3971-2ef2-874a-08de90b46c9d
DTSTAMP;TZID=Asia/Manila:20261014T150000
DTSTART;TZID=Asia/Manila:20261014T150000
DTEND;TZID=Asia/Manila:20261014T235959
SUMMARY:APPT CHAMPIONSHIP MEGA Qualifier - WYS@100K
DESCRIPTION:Game: Texas Hold'em (NL)\nBuy-In: 16,051 + 2,949 PHP\nStack: 10,000\nLevels: 20 min\nLate Reg: @ 17:50
LOCATION:Okada Manila, Manila, Philippines
END:VEVENT
END:VCALENDAR
