
BEGIN:VCALENDAR
VERSION:2.0
PRODID:-//Royal Poker Tour//RPT Championship II//ULTRA STACK//EN
BEGIN:VEVENT
UID:01000000-3fa8-b42d-a201-08de6e39fa60
DTSTAMP;TZID=Asia/Hanoi:20260329T113000
DTSTART;TZID=Asia/Hanoi:20260329T113000
DTEND;TZID=Asia/Hanoi:20260329T235959
SUMMARY:ULTRA STACK
DESCRIPTION:Game: Texas Hold'em (NL)\nBuy-In: 15,000,000 + 1,500,000 VND\nGTD: 1,200,000,000 VND\nStack: 60,000\nLevels: 35 min\nLate Reg: 12 lvl @ 18:30
LOCATION:Royal Poker Club, Hanoi, Viet Nam
END:VEVENT
END:VCALENDAR
