
BEGIN:VCALENDAR
VERSION:2.0
PRODID:-//World Poker Games//World Poker Games Taiwan 2026//Super High Roller//EN
BEGIN:VEVENT
UID:01000000-4909-3915-ed24-08de9c6bd3c0
DTSTAMP;TZID=Asia/Taipei:20260531T113000
DTSTART;TZID=Asia/Taipei:20260531T113000
DTEND;TZID=Asia/Taipei:20260531T235959
SUMMARY:Super High Roller
DESCRIPTION:Game: Texas Hold'em (NL)\nBuy-In: 60,000 + 6,000 TWD\nGTD: 1,500,000 TWD\nStack: 200,000\nLevels: 30 min\nLate Reg: 13 lvl @  18:15
LOCATION:CTP Asia Poker Arena, Taipei City, Taiwan
END:VEVENT
END:VCALENDAR
