
BEGIN:VCALENDAR
VERSION:2.0
PRODID:-//U Series Championship//U Series Champ. Osaka Q2 2026//Night Mega//EN
BEGIN:VEVENT
UID:01000000-3971-2ef2-a465-08de91633b2b
DTSTAMP;TZID=Asia/Tokyo:20260504T200000
DTSTART;TZID=Asia/Tokyo:20260504T200000
DTEND;TZID=Asia/Tokyo:20260504T235959
SUMMARY:Night Mega
DESCRIPTION:Game: Texas Hold'em (NL)\nBuy-In: 22,000 +  JPY\nStack: 50,000\nLevels: 20 min\nLate Reg: @ 23:00:00
LOCATION:Dojima River Forum, Osaka, Japan
END:VEVENT
END:VCALENDAR
