
BEGIN:VCALENDAR
VERSION:2.0
PRODID:-//World Poker Tour//WPT Prime Taiwan 2025//MEGASTACK ACTION CLOCK//EN
BEGIN:VEVENT
UID:01000000-a9fe-0a58-1a14-08ddabd52af7
DTSTAMP;TZID=Asia/Taipei:20250818T130000
DTSTART;TZID=Asia/Taipei:20250818T130000
DTEND;TZID=Asia/Taipei:20250818T235959
SUMMARY:MEGASTACK ACTION CLOCK
DESCRIPTION:Game: Texas Hold'em (NL)\nBuy-In: 110,000 + 10,000 TWD\nStack: 30,000\nLevels: 25 min\nLate Reg: 9 lvl @ 16:40
LOCATION:CTP Asia Poker Arena, Taipei City, Taiwan
END:VEVENT
END:VCALENDAR
