
BEGIN:VCALENDAR
VERSION:2.0
PRODID:-//Poker Dream//Poker Dream 19 Malaysia//8,000 NLH - Turbo//EN
BEGIN:VEVENT
UID:01000000-a9fe-0a58-98d8-08ddf9342fba
DTSTAMP;TZID=Asia/Kuala_Lumpur:20251031T200000
DTSTART;TZID=Asia/Kuala_Lumpur:20251031T200000
DTEND;TZID=Asia/Kuala_Lumpur:20251031T235959
SUMMARY:8,000 NLH - Turbo
DESCRIPTION:Game: Texas Hold'em (NL)\nBuy-In: 6,569 + 1,431 MYR\nStack: 30,000\nLevels: 20 min\nLate Reg: 10 lvl @ 23:50
LOCATION:Resorts World Genting, Malaysia, Pahang, Malaysia
END:VEVENT
END:VCALENDAR
