
BEGIN:VCALENDAR
VERSION:2.0
PRODID:-//World Poker Games//World Poker Games Taiwan 2026//Monster Stack //EN
BEGIN:VEVENT
UID:01000000-4909-3915-1214-08de9c6bd3aa
DTSTAMP;TZID=Asia/Taipei:20260531T110000
DTSTART;TZID=Asia/Taipei:20260531T110000
DTEND;TZID=Asia/Taipei:20260531T235959
SUMMARY:Monster Stack 
DESCRIPTION:Game: Texas Hold'em (NL)\nBuy-In: 13,500 + 1,500 TWD\nGTD: 800,000 TWD\nStack: 50,000\nLevels: 30 min\nLate Reg: 13 lvl @  17:45
LOCATION:CTP Asia Poker Arena, Taipei City, Taiwan
END:VEVENT
END:VCALENDAR
